BEGIN:VCALENDAR
VERSION:2.0
PRODID:-//Wellspring Academy Kigali Rwanda - ECPv6.15.20//NONSGML v1.0//EN
CALSCALE:GREGORIAN
METHOD:PUBLISH
X-WR-CALNAME:Wellspring Academy Kigali Rwanda
X-ORIGINAL-URL:https://www.wellspringacademy.org
X-WR-CALDESC:Events for Wellspring Academy Kigali Rwanda
REFRESH-INTERVAL;VALUE=DURATION:PT1H
X-Robots-Tag:noindex
X-PUBLISHED-TTL:PT1H
BEGIN:VTIMEZONE
TZID:Africa/Kigali
BEGIN:STANDARD
TZOFFSETFROM:+0200
TZOFFSETTO:+0200
TZNAME:CAT
DTSTART:20240101T000000
END:STANDARD
END:VTIMEZONE
BEGIN:VEVENT
DTSTART;VALUE=DATE:20251114
DTEND;VALUE=DATE:20251115
DTSTAMP:20260423T194101
CREATED:20250820T161156Z
LAST-MODIFIED:20250820T170818Z
UID:987519927-1763078400-1763164799@www.wellspringacademy.org
SUMMARY:Kindergarten Cultural day and Arts exhibition
DESCRIPTION:
URL:https://www.wellspringacademy.org/event/kindergarten-cultural-day-and-arts-exhibition/
CATEGORIES:Kindergarten
END:VEVENT
BEGIN:VEVENT
DTSTART;VALUE=DATE:20251107
DTEND;VALUE=DATE:20251108
DTSTAMP:20260423T194101
CREATED:20250820T161118Z
LAST-MODIFIED:20250820T170824Z
UID:987519925-1762473600-1762559999@www.wellspringacademy.org
SUMMARY:Primary Cultural day and Arts exhibition
DESCRIPTION:
URL:https://www.wellspringacademy.org/event/primary-cultural-day-and-arts-exhibition/
CATEGORIES:Primary
END:VEVENT
BEGIN:VEVENT
DTSTART;VALUE=DATE:20251103
DTEND;VALUE=DATE:20251104
DTSTAMP:20260423T194101
CREATED:20250820T160559Z
LAST-MODIFIED:20250820T170830Z
UID:987519923-1762128000-1762214399@www.wellspringacademy.org
SUMMARY:School resumes & Mid term results
DESCRIPTION:
URL:https://www.wellspringacademy.org/event/school-resumes-mid-term-results/
CATEGORIES:Whole School
END:VEVENT
BEGIN:VEVENT
DTSTART;VALUE=DATE:20251030
DTEND;VALUE=DATE:20251031
DTSTAMP:20260423T194101
CREATED:20250820T160351Z
LAST-MODIFIED:20250820T170841Z
UID:987519921-1761782400-1761868799@www.wellspringacademy.org
SUMMARY:Mid-term break begins
DESCRIPTION:
URL:https://www.wellspringacademy.org/event/mid-term-break-begins/
CATEGORIES:Break,Whole School
END:VEVENT
BEGIN:VEVENT
DTSTART;TZID=Africa/Kigali:20251011T090000
DTEND;TZID=Africa/Kigali:20251011T103000
DTSTAMP:20260423T194101
CREATED:20250820T160314Z
LAST-MODIFIED:20250820T172604Z
UID:987519919-1760173200-1760178600@www.wellspringacademy.org
SUMMARY:PGF Meeting
DESCRIPTION:
URL:https://www.wellspringacademy.org/event/pgf-meeting-2/
CATEGORIES:Whole School
END:VEVENT
BEGIN:VEVENT
DTSTART;VALUE=DATE:20251006
DTEND;VALUE=DATE:20251007
DTSTAMP:20260423T194101
CREATED:20250820T160158Z
LAST-MODIFIED:20250820T171029Z
UID:987519917-1759708800-1759795199@www.wellspringacademy.org
SUMMARY:Professional development training (no school)
DESCRIPTION:
URL:https://www.wellspringacademy.org/event/professional-development-training-no-school/
CATEGORIES:Whole School
END:VEVENT
BEGIN:VEVENT
DTSTART;VALUE=DATE:20251005
DTEND;VALUE=DATE:20251006
DTSTAMP:20260423T194101
CREATED:20250820T160107Z
LAST-MODIFIED:20250820T171035Z
UID:987519915-1759622400-1759708799@www.wellspringacademy.org
SUMMARY:Teachers' day celebration
DESCRIPTION:
URL:https://www.wellspringacademy.org/event/teachers-day-celebration/
CATEGORIES:Event,Whole School
END:VEVENT
BEGIN:VEVENT
DTSTART;VALUE=DATE:20250920
DTEND;VALUE=DATE:20250922
DTSTAMP:20260423T194101
CREATED:20250820T155904Z
LAST-MODIFIED:20250821T173807Z
UID:987519913-1758326400-1758499199@www.wellspringacademy.org
SUMMARY:G12 Camp
DESCRIPTION:
URL:https://www.wellspringacademy.org/event/g12-camp/
CATEGORIES:Upper Secondary
END:VEVENT
BEGIN:VEVENT
DTSTART;VALUE=DATE:20250922
DTEND;VALUE=DATE:20250927
DTSTAMP:20260423T194101
CREATED:20250821T174208Z
LAST-MODIFIED:20250821T174208Z
UID:987519968-1758499200-1758931199@www.wellspringacademy.org
SUMMARY:Break – 2025 UCI Road World Championship
DESCRIPTION:
URL:https://www.wellspringacademy.org/event/break-2025-uci-road-world-championship/
CATEGORIES:Whole School
END:VEVENT
BEGIN:VEVENT
DTSTART;VALUE=DATE:20250920
DTEND;VALUE=DATE:20250921
DTSTAMP:20260423T194101
CREATED:20250820T155742Z
LAST-MODIFIED:20250820T171132Z
UID:987519911-1758326400-1758412799@www.wellspringacademy.org
SUMMARY:G 6 & 8 Parents meeting
DESCRIPTION:
URL:https://www.wellspringacademy.org/event/g-6-8-parents-meeting/
CATEGORIES:Lower Secondary,Primary
END:VEVENT
BEGIN:VEVENT
DTSTART;VALUE=DATE:20250919
DTEND;VALUE=DATE:20250920
DTSTAMP:20260423T194101
CREATED:20250820T155616Z
LAST-MODIFIED:20250821T173610Z
UID:987519909-1758240000-1758326399@www.wellspringacademy.org
SUMMARY:Kindergarten Gala day
DESCRIPTION:
URL:https://www.wellspringacademy.org/event/kindergarten-gala-day/
CATEGORIES:Kindergarten,Whole School
END:VEVENT
BEGIN:VEVENT
DTSTART;VALUE=DATE:20250913
DTEND;VALUE=DATE:20250914
DTSTAMP:20260423T194101
CREATED:20250820T155230Z
LAST-MODIFIED:20250821T173257Z
UID:987519907-1757721600-1757807999@www.wellspringacademy.org
SUMMARY:G 10\,11&12 Candidate parents’ meeting
DESCRIPTION:
URL:https://www.wellspringacademy.org/event/g-101112-candidate-parents-meeting/
CATEGORIES:Upper Secondary
END:VEVENT
BEGIN:VEVENT
DTSTART;VALUE=DATE:20250905
DTEND;VALUE=DATE:20250906
DTSTAMP:20260423T194101
CREATED:20250820T155131Z
LAST-MODIFIED:20250820T171154Z
UID:987519905-1757030400-1757116799@www.wellspringacademy.org
SUMMARY:New parents orientation
DESCRIPTION:
URL:https://www.wellspringacademy.org/event/new-parents-orientation/
CATEGORIES:Whole School
END:VEVENT
BEGIN:VEVENT
DTSTART;VALUE=DATE:20250901
DTEND;VALUE=DATE:20250902
DTSTAMP:20260423T194101
CREATED:20250820T155050Z
LAST-MODIFIED:20250820T171204Z
UID:987519903-1756684800-1756771199@www.wellspringacademy.org
SUMMARY:Opening day for 2025-2026 Academic year
DESCRIPTION:
URL:https://www.wellspringacademy.org/event/opening-day-for-2025-2026-academic-year-2/
CATEGORIES:Whole School
END:VEVENT
BEGIN:VEVENT
DTSTART;VALUE=DATE:20250827
DTEND;VALUE=DATE:20250828
DTSTAMP:20260423T194101
CREATED:20250820T155002Z
LAST-MODIFIED:20250821T173014Z
UID:987519900-1756252800-1756339199@www.wellspringacademy.org
SUMMARY:New students & Parents orientation
DESCRIPTION:
URL:https://www.wellspringacademy.org/event/new-students-parents-orientation/
CATEGORIES:Whole School
END:VEVENT
BEGIN:VEVENT
DTSTART;TZID=Africa/Kigali:20250712T080000
DTEND;TZID=Africa/Kigali:20250712T170000
DTSTAMP:20260423T194101
CREATED:20250514T173139Z
LAST-MODIFIED:20250515T071600Z
UID:987519288-1752307200-1752339600@www.wellspringacademy.org
SUMMARY:Holidays begin
DESCRIPTION:
URL:https://www.wellspringacademy.org/event/holidays-begin/
CATEGORIES:Break,Whole School
END:VEVENT
BEGIN:VEVENT
DTSTART;TZID=Africa/Kigali:20250711T080000
DTEND;TZID=Africa/Kigali:20250711T170000
DTSTAMP:20260423T194101
CREATED:20250514T172950Z
LAST-MODIFIED:20250515T071931Z
UID:987519286-1752220800-1752253200@www.wellspringacademy.org
SUMMARY:Staff end of year celebration
DESCRIPTION:
URL:https://www.wellspringacademy.org/event/staff-end-of-year-celebration/
CATEGORIES:Event,Whole School
END:VEVENT
BEGIN:VEVENT
DTSTART;TZID=Africa/Kigali:20250702T080000
DTEND;TZID=Africa/Kigali:20250708T170000
DTSTAMP:20260423T194101
CREATED:20250514T172914Z
LAST-MODIFIED:20250515T071614Z
UID:987519284-1751443200-1751994000@www.wellspringacademy.org
SUMMARY:Entry Tests for New Students
DESCRIPTION:
URL:https://www.wellspringacademy.org/event/entry-tests-for-new-students/
CATEGORIES:Exams,Whole School
END:VEVENT
BEGIN:VEVENT
DTSTART;TZID=Africa/Kigali:20250630T080000
DTEND;TZID=Africa/Kigali:20250630T170000
DTSTAMP:20260423T194101
CREATED:20250514T171408Z
LAST-MODIFIED:20250514T171408Z
UID:987519282-1751270400-1751302800@www.wellspringacademy.org
SUMMARY:End of Confirmation for 2025-2026 Academic Year
DESCRIPTION:
URL:https://www.wellspringacademy.org/event/end-of-confirmation-for-2025-2026-academic-year/
CATEGORIES:Whole School
END:VEVENT
BEGIN:VEVENT
DTSTART;TZID=Africa/Kigali:20250630T080000
DTEND;TZID=Africa/Kigali:20250630T170000
DTSTAMP:20260423T194101
CREATED:20250514T171304Z
LAST-MODIFIED:20250515T071639Z
UID:987519280-1751270400-1751302800@www.wellspringacademy.org
SUMMARY:Annual report cards
DESCRIPTION:
URL:https://www.wellspringacademy.org/event/annual-report-cards/
CATEGORIES:Event,Whole School
END:VEVENT
BEGIN:VEVENT
DTSTART;TZID=Africa/Kigali:20250627T080000
DTEND;TZID=Africa/Kigali:20250627T170000
DTSTAMP:20260423T194101
CREATED:20250514T171035Z
LAST-MODIFIED:20250515T071709Z
UID:987519278-1751011200-1751043600@www.wellspringacademy.org
SUMMARY:Grade 12 Graduation Ceremony
DESCRIPTION:
URL:https://www.wellspringacademy.org/event/grade-12-graduation-ceremony/
CATEGORIES:Event,Upper Secondary
END:VEVENT
BEGIN:VEVENT
DTSTART;TZID=Africa/Kigali:20250623T080000
DTEND;TZID=Africa/Kigali:20250625T170000
DTSTAMP:20260423T194101
CREATED:20250514T170842Z
LAST-MODIFIED:20250515T071759Z
UID:987519276-1750665600-1750870800@www.wellspringacademy.org
SUMMARY:Community outreach for candidate classes (IGCSE\,AS and Al)
DESCRIPTION:
URL:https://www.wellspringacademy.org/event/community-outreach-for-candidate-classes-igcseas-and-al/
CATEGORIES:Event,Upper Secondary
END:VEVENT
BEGIN:VEVENT
DTSTART;TZID=Africa/Kigali:20250621T090000
DTEND;TZID=Africa/Kigali:20250621T170000
DTSTAMP:20260423T194101
CREATED:20250514T170721Z
LAST-MODIFIED:20250515T071809Z
UID:987519274-1750496400-1750525200@www.wellspringacademy.org
SUMMARY:PGF Meeting
DESCRIPTION:
URL:https://www.wellspringacademy.org/event/pgf-meeting/
CATEGORIES:Event,Whole School
END:VEVENT
BEGIN:VEVENT
DTSTART;TZID=Africa/Kigali:20250620T080000
DTEND;TZID=Africa/Kigali:20250620T170000
DTSTAMP:20260423T194101
CREATED:20250514T170125Z
LAST-MODIFIED:20250515T071731Z
UID:987519272-1750406400-1750438800@www.wellspringacademy.org
SUMMARY:KG3 and G6 Graduation
DESCRIPTION:
URL:https://www.wellspringacademy.org/event/kg3-and-g6-graduation/
CATEGORIES:Event,Kindergarten,Primary
END:VEVENT
BEGIN:VEVENT
DTSTART;TZID=Africa/Kigali:20250617T080000
DTEND;TZID=Africa/Kigali:20250621T170000
DTSTAMP:20260423T194101
CREATED:20250514T165910Z
LAST-MODIFIED:20250515T071745Z
UID:987519270-1750147200-1750525200@www.wellspringacademy.org
SUMMARY:End of term three exams for G6\,G8 and non candidate classes
DESCRIPTION:
URL:https://www.wellspringacademy.org/event/end-of-term-three-exams-for-g6g8-and-non-candidate-classes/
CATEGORIES:Break,Lower Secondary,Primary
END:VEVENT
BEGIN:VEVENT
DTSTART;TZID=Africa/Kigali:20250613T080000
DTEND;TZID=Africa/Kigali:20250613T170000
DTSTAMP:20260423T194101
CREATED:20250514T165659Z
LAST-MODIFIED:20250514T165659Z
UID:987519268-1749801600-1749834000@www.wellspringacademy.org
SUMMARY:Term 3 worship encounter and Sports day
DESCRIPTION:
URL:https://www.wellspringacademy.org/event/term-3-worship-encounter-and-sports-day/
CATEGORIES:Whole School
END:VEVENT
BEGIN:VEVENT
DTSTART;TZID=Africa/Kigali:20250606T080000
DTEND;TZID=Africa/Kigali:20250606T170000
DTSTAMP:20260423T194101
CREATED:20250514T165520Z
LAST-MODIFIED:20250515T071830Z
UID:987519266-1749196800-1749229200@www.wellspringacademy.org
SUMMARY:Science exhibition for Primary and check point
DESCRIPTION:
URL:https://www.wellspringacademy.org/event/science-exhibition-for-primary-and-check-point/
CATEGORIES:Lower Secondary,Primary
END:VEVENT
BEGIN:VEVENT
DTSTART;TZID=Africa/Kigali:20250528T080000
DTEND;TZID=Africa/Kigali:20250528T170000
DTSTAMP:20260423T194101
CREATED:20250514T165429Z
LAST-MODIFIED:20250515T071843Z
UID:987519264-1748419200-1748451600@www.wellspringacademy.org
SUMMARY:Professional development training
DESCRIPTION:
URL:https://www.wellspringacademy.org/event/professional-development-training/
CATEGORIES:Event,Whole School
END:VEVENT
BEGIN:VEVENT
DTSTART;TZID=Africa/Kigali:20250526T080000
DTEND;TZID=Africa/Kigali:20250528T170000
DTSTAMP:20260423T194101
CREATED:20250514T165055Z
LAST-MODIFIED:20250514T165055Z
UID:987519262-1748246400-1748451600@www.wellspringacademy.org
SUMMARY:Starting date for Confirmation/Payment for 2025-2026 Academic Year
DESCRIPTION:
URL:https://www.wellspringacademy.org/event/starting-date-for-confirmation-payment-for-2025-2026-academic-year/
CATEGORIES:Whole School
END:VEVENT
BEGIN:VEVENT
DTSTART;TZID=Africa/Kigali:20250523T080000
DTEND;TZID=Africa/Kigali:20250523T170000
DTSTAMP:20260423T194101
CREATED:20250514T165015Z
LAST-MODIFIED:20250515T071859Z
UID:987519260-1747987200-1748019600@www.wellspringacademy.org
SUMMARY:Community outreach for G6 and G8 classes
DESCRIPTION:
URL:https://www.wellspringacademy.org/event/community-outreach-for-g6-and-g8-classes/
CATEGORIES:Lower Secondary,Primary
END:VEVENT
END:VCALENDAR