BEGIN:VCALENDAR
VERSION:2.0
PRODID:-//Wellspring Academy Kigali Rwanda - ECPv6.15.20//NONSGML v1.0//EN
CALSCALE:GREGORIAN
METHOD:PUBLISH
X-ORIGINAL-URL:https://www.wellspringacademy.org
X-WR-CALDESC:Events for Wellspring Academy Kigali Rwanda
REFRESH-INTERVAL;VALUE=DURATION:PT1H
X-Robots-Tag:noindex
X-PUBLISHED-TTL:PT1H
BEGIN:VTIMEZONE
TZID:Africa/Kigali
BEGIN:STANDARD
TZOFFSETFROM:+0200
TZOFFSETTO:+0200
TZNAME:CAT
DTSTART:20240101T000000
END:STANDARD
END:VTIMEZONE
BEGIN:VEVENT
DTSTART;VALUE=DATE:20250404
DTEND;VALUE=DATE:20250405
DTSTAMP:20260424T001620
CREATED:20250319T100801Z
LAST-MODIFIED:20250319T100827Z
UID:163-1743724800-1743811199@www.wellspringacademy.org
SUMMARY:Holidays Begin for Students (Upper Secondary)
DESCRIPTION:
URL:https://www.wellspringacademy.org/event/holidays-begin-for-students-upper-secondary/
CATEGORIES:Break,Upper Secondary
END:VEVENT
BEGIN:VEVENT
DTSTART;VALUE=DATE:20250329
DTEND;VALUE=DATE:20250330
DTSTAMP:20260424T001620
CREATED:20250319T100735Z
LAST-MODIFIED:20250319T100835Z
UID:161-1743206400-1743292799@www.wellspringacademy.org
SUMMARY:Holidays Begin for Students
DESCRIPTION:
URL:https://www.wellspringacademy.org/event/holidays-begin-for-students/
CATEGORIES:Break,Kindergarten,Lower Secondary,Primary
END:VEVENT
BEGIN:VEVENT
DTSTART;VALUE=DATE:20250320
DTEND;VALUE=DATE:20250329
DTSTAMP:20260424T001620
CREATED:20250319T100639Z
LAST-MODIFIED:20250319T100908Z
UID:159-1742428800-1743206399@www.wellspringacademy.org
SUMMARY:Mock Exams (G6\,G8\,G10\,G11&G12) &Term 2 Exams
DESCRIPTION:
URL:https://www.wellspringacademy.org/event/mock-exams-g6g8g10g11g12-term-2-exams/
CATEGORIES:Lower Secondary,Upper Secondary
END:VEVENT
END:VCALENDAR